BEGIN:VCALENDAR
PRODID:-//eluceo/ical//2.0/EN
VERSION:2.0
CALSCALE:GREGORIAN
BEGIN:VEVENT
UID:683d1743f10b693c908325bd55445175
DTSTAMP:20260420T083916Z
SUMMARY:Wichelhorn (Rundtour vom Arnisee)
URL:https://www.sac-pilatus.ch/touren-detailansicht/event-9986.html
DTSTART;VALUE=DATE:20220410
LOCATION:Intschi
END:VEVENT
END:VCALENDAR
