BEGIN:VCALENDAR
PRODID:-//eluceo/ical//2.0/EN
VERSION:2.0
CALSCALE:GREGORIAN
BEGIN:VEVENT
UID:c2f8d32f852584e6c1170c15cf23d1a4
DTSTAMP:20260423T083106Z
SUMMARY:Belchenfluh
URL:https://www.sac-pilatus.ch/touren-detailansicht/event-9983.html
DTSTART;VALUE=DATE:20220809
LOCATION:
END:VEVENT
END:VCALENDAR
