BEGIN:VCALENDAR
PRODID:-//eluceo/ical//2.0/EN
VERSION:2.0
CALSCALE:GREGORIAN
BEGIN:VEVENT
UID:808546b8cc003a823c923fc3cbc18619
DTSTAMP:20260423T082053Z
SUMMARY:Skitourentage Klein Walsertal
URL:https://www.sac-pilatus.ch/touren-detailansicht/event-9907.html
DTSTART;VALUE=DATE:20220204
LOCATION:
END:VEVENT
BEGIN:VEVENT
UID:414447806dfa442f9f8224b9af208db6
DTSTAMP:20260423T082053Z
SUMMARY:Skitourentage Klein Walsertal
URL:https://www.sac-pilatus.ch/touren-detailansicht/event-9907.html
DTSTART;VALUE=DATE:20220205
LOCATION:
END:VEVENT
BEGIN:VEVENT
UID:2b0add8beb004e6c660ee7fc6cb7cb06
DTSTAMP:20260423T082053Z
SUMMARY:Skitourentage Klein Walsertal
URL:https://www.sac-pilatus.ch/touren-detailansicht/event-9907.html
DTSTART;VALUE=DATE:20220206
LOCATION:
END:VEVENT
BEGIN:VEVENT
UID:97c6d8a7acc2ca7509d0a865b006482e
DTSTAMP:20260423T082053Z
SUMMARY:Skitourentage Klein Walsertal
URL:https://www.sac-pilatus.ch/touren-detailansicht/event-9907.html
DTSTART;VALUE=DATE:20220207
LOCATION:
END:VEVENT
END:VCALENDAR
