BEGIN:VCALENDAR
PRODID:-//eluceo/ical//2.0/EN
VERSION:2.0
CALSCALE:GREGORIAN
BEGIN:VEVENT
UID:caf21b583690ff623ebe5ad9a854cfd4
DTSTAMP:20260422T025752Z
SUMMARY:Lorzeradweg
URL:https://www.sac-pilatus.ch/touren-detailansicht/event-9650.html
DTSTART;VALUE=DATE:20220513
LOCATION:
END:VEVENT
END:VCALENDAR
