BEGIN:VCALENDAR
PRODID:-//eluceo/ical//2.0/EN
VERSION:2.0
CALSCALE:GREGORIAN
BEGIN:VEVENT
UID:d382c865fec16ab4808ea156a3d0fbc6
DTSTAMP:20260421T091225Z
SUMMARY:Poncione di Cassina Baggio\, SE Grat
URL:https://www.sac-pilatus.ch/touren-detailansicht/event-9585.html
DTSTART;VALUE=DATE:20220903
LOCATION:Val Bedretto
END:VEVENT
END:VCALENDAR
