BEGIN:VCALENDAR
PRODID:-//eluceo/ical//2.0/EN
VERSION:2.0
CALSCALE:GREGORIAN
BEGIN:VEVENT
UID:3a3614896190d9f889104455e7b0e0ab
DTSTAMP:20260421T095523Z
SUMMARY:Cima di Biasca
URL:https://www.sac-pilatus.ch/touren-detailansicht/event-9522.html
DTSTART;VALUE=DATE:20220829
LOCATION:Biasca
END:VEVENT
BEGIN:VEVENT
UID:3ccfda8ef256500710b71aae56aa1267
DTSTAMP:20260421T095523Z
SUMMARY:Cima di Biasca
URL:https://www.sac-pilatus.ch/touren-detailansicht/event-9522.html
DTSTART;VALUE=DATE:20220830
LOCATION:Biasca
END:VEVENT
END:VCALENDAR
