BEGIN:VCALENDAR
PRODID:-//eluceo/ical//2.0/EN
VERSION:2.0
CALSCALE:GREGORIAN
BEGIN:VEVENT
UID:7ba88d25e2826a9182dd9c7110c1156b
DTSTAMP:20260421T085140Z
SUMMARY:Kombinierte Hochtour in der Zentralschweiz
URL:https://www.sac-pilatus.ch/touren-detailansicht/event-9500.html
DTSTART;VALUE=DATE:20220625
LOCATION:
END:VEVENT
BEGIN:VEVENT
UID:e36ffc200a3ead66d71cc0fc361a84a3
DTSTAMP:20260421T085140Z
SUMMARY:Kombinierte Hochtour in der Zentralschweiz
URL:https://www.sac-pilatus.ch/touren-detailansicht/event-9500.html
DTSTART;VALUE=DATE:20220626
LOCATION:
END:VEVENT
END:VCALENDAR
