BEGIN:VCALENDAR
PRODID:-//eluceo/ical//2.0/EN
VERSION:2.0
CALSCALE:GREGORIAN
BEGIN:VEVENT
UID:dcd6d05032a0288b3323df520ae99cbd
DTSTAMP:20260426T030509Z
SUMMARY:Wanderung Bella Tola
URL:https://www.sac-pilatus.ch/touren-detailansicht/event-9324.html
DTSTART;VALUE=DATE:20220809
LOCATION:
END:VEVENT
BEGIN:VEVENT
UID:887fc3a6b80692fcc3f7680f9deac13e
DTSTAMP:20260426T030509Z
SUMMARY:Wanderung Bella Tola
URL:https://www.sac-pilatus.ch/touren-detailansicht/event-9324.html
DTSTART;VALUE=DATE:20220810
LOCATION:
END:VEVENT
END:VCALENDAR
