BEGIN:VCALENDAR
PRODID:-//eluceo/ical//2.0/EN
VERSION:2.0
CALSCALE:GREGORIAN
BEGIN:VEVENT
UID:8a341c36bc30f09833a9a0bf4ba93b13
DTSTAMP:20260420T083003Z
SUMMARY:Tälligrat
URL:https://www.sac-pilatus.ch/touren-detailansicht/event-9280.html
DTSTART;VALUE=DATE:20220108
LOCATION:
END:VEVENT
END:VCALENDAR
