BEGIN:VCALENDAR
PRODID:-//eluceo/ical//2.0/EN
VERSION:2.0
CALSCALE:GREGORIAN
BEGIN:VEVENT
UID:510d24aebe8626bb50861a83afa24b57
DTSTAMP:20260423T082844Z
SUMMARY:Hallenklettern Sonntagabend
URL:https://www.sac-pilatus.ch/touren-detailansicht/event-9219.html
DTSTART;VALUE=DATE:20220220
LOCATION:Kletterhalle Pilatus Indoor\, Root D4
END:VEVENT
END:VCALENDAR
