BEGIN:VCALENDAR
PRODID:-//eluceo/ical//2.0/EN
VERSION:2.0
CALSCALE:GREGORIAN
BEGIN:VEVENT
UID:db191a1ea61c426fed851a32ae510762
DTSTAMP:20260423T003438Z
SUMMARY:Kletterkurs für alpine Hochtouren
URL:https://www.sac-pilatus.ch/kurs-detail/event-8019.html
DTSTART;VALUE=DATE:20210626
LOCATION:Sewenhütte\, Meiental
END:VEVENT
BEGIN:VEVENT
UID:b1a083b2a56467e091f7235f9c93d4a6
DTSTAMP:20260423T003438Z
SUMMARY:Kletterkurs für alpine Hochtouren
URL:https://www.sac-pilatus.ch/kurs-detail/event-8019.html
DTSTART;VALUE=DATE:20210627
LOCATION:Sewenhütte\, Meiental
END:VEVENT
END:VCALENDAR
