BEGIN:VCALENDAR
PRODID:-//eluceo/ical//2.0/EN
VERSION:2.0
CALSCALE:GREGORIAN
BEGIN:VEVENT
UID:3a3f8a816c7eb7a7342db029bb43ebdd
DTSTAMP:20260423T084702Z
SUMMARY:O-Tour Bike West
URL:https://www.sac-pilatus.ch/touren-detailansicht/event-7595.html
DTSTART;VALUE=DATE:20210718
LOCATION:
END:VEVENT
END:VCALENDAR
