BEGIN:VCALENDAR
PRODID:-//eluceo/ical//2.0/EN
VERSION:2.0
CALSCALE:GREGORIAN
BEGIN:VEVENT
UID:fb85cc184bb9ca0692ef56be2f28a0bd
DTSTAMP:20260420T082948Z
SUMMARY:Hahnen 2606m
URL:https://www.sac-pilatus.ch/touren-detailansicht/event-7404.html
DTSTART;VALUE=DATE:20210925
LOCATION:
END:VEVENT
END:VCALENDAR
