BEGIN:VCALENDAR
PRODID:-//eluceo/ical//2.0/EN
VERSION:2.0
CALSCALE:GREGORIAN
BEGIN:VEVENT
UID:bbb759738ebd7fde9150f620cef2810e
DTSTAMP:20260420T082856Z
SUMMARY:Hombrechtikon - Lützelsee - Grüningen
URL:https://www.sac-pilatus.ch/touren-detailansicht/event-7306.html
DTSTART;VALUE=DATE:20210602
LOCATION:
END:VEVENT
END:VCALENDAR
