BEGIN:VCALENDAR
PRODID:-//eluceo/ical//2.0/EN
VERSION:2.0
CALSCALE:GREGORIAN
BEGIN:VEVENT
UID:81b57c749db7bb5ed1f973480be8b163
DTSTAMP:20260423T083137Z
SUMMARY:Hallenklettern 60+
URL:https://www.sac-pilatus.ch/touren-detailansicht/event-6705.html
DTSTART;VALUE=DATE:20210222
LOCATION:
END:VEVENT
END:VCALENDAR
