BEGIN:VCALENDAR
PRODID:-//eluceo/ical//2.0/EN
VERSION:2.0
CALSCALE:GREGORIAN
BEGIN:VEVENT
UID:e5b598802c10b0b5f0a7da666f181476
DTSTAMP:20260422T084439Z
SUMMARY:Schneeschuhtour Wirzweli-Gummenalp
URL:https://www.sac-pilatus.ch/touren-detailansicht/event-5906.html
DTSTART;VALUE=DATE:20200205
LOCATION:Wirzweli
END:VEVENT
END:VCALENDAR
