BEGIN:VCALENDAR
PRODID:-//eluceo/ical//2.0/EN
VERSION:2.0
CALSCALE:GREGORIAN
BEGIN:VEVENT
UID:4cf8a30dbc9f6cb58533f06f194f175e
DTSTAMP:20260422T085102Z
SUMMARY:Seniorentag
URL:https://www.sac-pilatus.ch/touren-detailansicht/event-5888.html
DTSTART;VALUE=DATE:20200502
LOCATION:
END:VEVENT
END:VCALENDAR
