BEGIN:VCALENDAR
PRODID:-//eluceo/ical//2.0/EN
VERSION:2.0
CALSCALE:GREGORIAN
BEGIN:VEVENT
UID:5a139b37f418f6b51ae226c9018837b7
DTSTAMP:20260423T082707Z
SUMMARY:TL-Essen
URL:https://www.sac-pilatus.ch/touren-detailansicht/event-5872.html
DTSTART;VALUE=DATE:20200131
LOCATION:
END:VEVENT
END:VCALENDAR
