BEGIN:VCALENDAR
PRODID:-//eluceo/ical//2.0/EN
VERSION:2.0
CALSCALE:GREGORIAN
BEGIN:VEVENT
UID:cbce49badbffc7c44304127049913f40
DTSTAMP:20260423T031826Z
SUMMARY:Weihnachtsfeier Chrotthütte
URL:https://www.sac-pilatus.ch/touren-detailansicht/event-5795.html
DTSTART;VALUE=DATE:20201213
LOCATION:
END:VEVENT
END:VCALENDAR
