BEGIN:VCALENDAR
PRODID:-//eluceo/ical//2.0/EN
VERSION:2.0
CALSCALE:GREGORIAN
BEGIN:VEVENT
UID:b8b9bf3b6c7636ab458895191a863dff
DTSTAMP:20260423T083612Z
SUMMARY:Nachwuchsklettertag
URL:https://www.sac-pilatus.ch/touren-detailansicht/event-5764.html
DTSTART;VALUE=DATE:20200906
LOCATION:
END:VEVENT
END:VCALENDAR
