BEGIN:VCALENDAR
PRODID:-//eluceo/ical//2.0/EN
VERSION:2.0
CALSCALE:GREGORIAN
BEGIN:VEVENT
UID:bcc69e7a1b086e53db282f80baf7f7ee
DTSTAMP:20260422T084650Z
SUMMARY:Trotzigplanggstock-Südgrat
URL:https://www.sac-pilatus.ch/touren-detailansicht/event-5553.html
DTSTART;VALUE=DATE:20200919
LOCATION:Sustenpass\, Meiental
END:VEVENT
END:VCALENDAR
