BEGIN:VCALENDAR
PRODID:-//eluceo/ical//2.0/EN
VERSION:2.0
CALSCALE:GREGORIAN
BEGIN:VEVENT
UID:28ca5f266c1165618a6ea856920fa8e0
DTSTAMP:20260423T082707Z
SUMMARY:Lucendro
URL:https://www.sac-pilatus.ch/touren-detailansicht/event-5440.html
DTSTART;VALUE=DATE:20200329
LOCATION:Realp
END:VEVENT
END:VCALENDAR
