BEGIN:VCALENDAR
PRODID:-//eluceo/ical//2.0/EN
VERSION:2.0
CALSCALE:GREGORIAN
BEGIN:VEVENT
UID:c59f6a95a047265746e4000eaf315594
DTSTAMP:20260423T083304Z
SUMMARY:Ruosalper Chulm
URL:https://www.sac-pilatus.ch/touren-detailansicht/event-5434.html
DTSTART;VALUE=DATE:20200111
LOCATION:Bisistal
END:VEVENT
END:VCALENDAR
