BEGIN:VCALENDAR
PRODID:-//eluceo/ical//2.0/EN
VERSION:2.0
CALSCALE:GREGORIAN
BEGIN:VEVENT
UID:f033c2a8fe6babde355bed3ef95248f7
DTSTAMP:20260423T084434Z
SUMMARY:Hallenklettern - Grundkurs 2
URL:https://www.sac-pilatus.ch/kurs-detail/event-4309.html
DTSTART;VALUE=DATE:20200223
LOCATION:Kletterhalle Pilatus Indoor\, Root D4
END:VEVENT
BEGIN:VEVENT
UID:cc5b521a1282138f10d2b9d45fd965fa
DTSTAMP:20260423T084434Z
SUMMARY:Hallenklettern - Grundkurs 2
URL:https://www.sac-pilatus.ch/kurs-detail/event-4309.html
DTSTART;VALUE=DATE:20200301
LOCATION:Kletterhalle Pilatus Indoor\, Root D4
END:VEVENT
BEGIN:VEVENT
UID:fc20cc11e126202dbbb6133a13ad3279
DTSTAMP:20260423T084434Z
SUMMARY:Hallenklettern - Grundkurs 2
URL:https://www.sac-pilatus.ch/kurs-detail/event-4309.html
DTSTART;VALUE=DATE:20200308
LOCATION:Kletterhalle Pilatus Indoor\, Root D4
END:VEVENT
END:VCALENDAR
