BEGIN:VCALENDAR
PRODID:-//eluceo/ical//2.0/EN
VERSION:2.0
CALSCALE:GREGORIAN
BEGIN:VEVENT
UID:137e7549a6c93604039c9e366e3e7f06
DTSTAMP:20260420T211522Z
SUMMARY:Aufbaukurs Hochtouren
URL:https://www.sac-pilatus.ch/kurs-detail/event-4307.html
DTSTART;VALUE=DATE:20200718
LOCATION:Furka Gebiet
END:VEVENT
BEGIN:VEVENT
UID:07a7a3a9891839a5e74d8f94f9d9f560
DTSTAMP:20260420T211522Z
SUMMARY:Aufbaukurs Hochtouren
URL:https://www.sac-pilatus.ch/kurs-detail/event-4307.html
DTSTART;VALUE=DATE:20200719
LOCATION:Furka Gebiet
END:VEVENT
END:VCALENDAR
