BEGIN:VCALENDAR
PRODID:-//eluceo/ical//2.0/EN
VERSION:2.0
CALSCALE:GREGORIAN
BEGIN:VEVENT
UID:5228c9ce2d4d0821911a557f37116d01
DTSTAMP:20260423T083937Z
SUMMARY:Grundkurs Skitouren
URL:https://www.sac-pilatus.ch/kurs-detail/event-4293.html
DTSTART;VALUE=DATE:20200215
LOCATION:St. Antönien\, Partnunstaffel\,  siehe www.sulzfluh.ch
END:VEVENT
BEGIN:VEVENT
UID:9c57cde089e19398fd760ebda2c74a5b
DTSTAMP:20260423T083937Z
SUMMARY:Grundkurs Skitouren
URL:https://www.sac-pilatus.ch/kurs-detail/event-4293.html
DTSTART;VALUE=DATE:20200216
LOCATION:St. Antönien\, Partnunstaffel\,  siehe www.sulzfluh.ch
END:VEVENT
BEGIN:VEVENT
UID:537759acaded7d4ca4d3ddf575439670
DTSTAMP:20260423T083937Z
SUMMARY:Grundkurs Skitouren
URL:https://www.sac-pilatus.ch/kurs-detail/event-4293.html
DTSTART;VALUE=DATE:20200217
LOCATION:St. Antönien\, Partnunstaffel\,  siehe www.sulzfluh.ch
END:VEVENT
BEGIN:VEVENT
UID:4293a029d114752b569b01fee6640265
DTSTAMP:20260423T083937Z
SUMMARY:Grundkurs Skitouren
URL:https://www.sac-pilatus.ch/kurs-detail/event-4293.html
DTSTART;VALUE=DATE:20200218
LOCATION:St. Antönien\, Partnunstaffel\,  siehe www.sulzfluh.ch
END:VEVENT
BEGIN:VEVENT
UID:cee5ffc1f55e5c6159414a3878374b26
DTSTAMP:20260423T083937Z
SUMMARY:Grundkurs Skitouren
URL:https://www.sac-pilatus.ch/kurs-detail/event-4293.html
DTSTART;VALUE=DATE:20200219
LOCATION:St. Antönien\, Partnunstaffel\,  siehe www.sulzfluh.ch
END:VEVENT
END:VCALENDAR
