BEGIN:VCALENDAR
PRODID:-//eluceo/ical//2.0/EN
VERSION:2.0
CALSCALE:GREGORIAN
BEGIN:VEVENT
UID:1a876a34c0b9610bc291d03c053ffef2
DTSTAMP:20260422T084348Z
SUMMARY:Plaisir Mehrseillängen
URL:https://www.sac-pilatus.ch/kurs-detail/event-4258.html
DTSTART;VALUE=DATE:20200530
LOCATION:Ponte Brolla\, Tessin
END:VEVENT
BEGIN:VEVENT
UID:4a8166b729baf6ac464c9acbc122abc4
DTSTAMP:20260422T084348Z
SUMMARY:Plaisir Mehrseillängen
URL:https://www.sac-pilatus.ch/kurs-detail/event-4258.html
DTSTART;VALUE=DATE:20200531
LOCATION:Ponte Brolla\, Tessin
END:VEVENT
BEGIN:VEVENT
UID:eba2db979ec1411dd50b6a419e824456
DTSTAMP:20260422T084348Z
SUMMARY:Plaisir Mehrseillängen
URL:https://www.sac-pilatus.ch/kurs-detail/event-4258.html
DTSTART;VALUE=DATE:20200601
LOCATION:Ponte Brolla\, Tessin
END:VEVENT
END:VCALENDAR
