BEGIN:VCALENDAR
PRODID:-//eluceo/ical//2.0/EN
VERSION:2.0
CALSCALE:GREGORIAN
BEGIN:VEVENT
UID:2d5a2439220e949a3d5d3e5944e8d16f
DTSTAMP:20260420T091205Z
SUMMARY:Klettersteig-Erlebnis
URL:https://www.sac-pilatus.ch/touren-detailansicht/event-4134.html
DTSTART;VALUE=DATE:20190922
LOCATION:
END:VEVENT
END:VCALENDAR
