BEGIN:VCALENDAR
PRODID:-//eluceo/ical//2.0/EN
VERSION:2.0
CALSCALE:GREGORIAN
BEGIN:VEVENT
UID:e83d44adcf50d2f7711daced2254911c
DTSTAMP:20260423T082308Z
SUMMARY:Ostertouren
URL:https://www.sac-pilatus.ch/touren-detailansicht/event-4061.html
DTSTART;VALUE=DATE:20190419
LOCATION:
END:VEVENT
BEGIN:VEVENT
UID:537dc11b0a70f7116970313a21022ece
DTSTAMP:20260423T082308Z
SUMMARY:Ostertouren
URL:https://www.sac-pilatus.ch/touren-detailansicht/event-4061.html
DTSTART;VALUE=DATE:20190420
LOCATION:
END:VEVENT
BEGIN:VEVENT
UID:cd66002924276e285f5202553dd1b8e3
DTSTAMP:20260423T082308Z
SUMMARY:Ostertouren
URL:https://www.sac-pilatus.ch/touren-detailansicht/event-4061.html
DTSTART;VALUE=DATE:20190421
LOCATION:
END:VEVENT
BEGIN:VEVENT
UID:f6695d2fbc198cd8b078340eb2aa227d
DTSTAMP:20260423T082308Z
SUMMARY:Ostertouren
URL:https://www.sac-pilatus.ch/touren-detailansicht/event-4061.html
DTSTART;VALUE=DATE:20190422
LOCATION:
END:VEVENT
END:VCALENDAR
