BEGIN:VCALENDAR
PRODID:-//eluceo/ical//2.0/EN
VERSION:2.0
CALSCALE:GREGORIAN
BEGIN:VEVENT
UID:729f0d442b1cf84b28bebde8d457b82f
DTSTAMP:20260421T084914Z
SUMMARY:Pazolastock
URL:https://www.sac-pilatus.ch/touren-detailansicht/event-4053.html
DTSTART;VALUE=DATE:20190310
LOCATION:
END:VEVENT
END:VCALENDAR
