BEGIN:VCALENDAR
PRODID:-//eluceo/ical//2.0/EN
VERSION:2.0
CALSCALE:GREGORIAN
BEGIN:VEVENT
UID:d81c46caadda153a653401f9e4b0c1f7
DTSTAMP:20260421T125915Z
SUMMARY:Risetenstock
URL:https://www.sac-pilatus.ch/touren-detailansicht/event-4044.html
DTSTART;VALUE=DATE:20190113
LOCATION:
END:VEVENT
END:VCALENDAR
