BEGIN:VCALENDAR
PRODID:-//eluceo/ical//2.0/EN
VERSION:2.0
CALSCALE:GREGORIAN
BEGIN:VEVENT
UID:64570ea166715409456950c684f78390
DTSTAMP:20260421T104021Z
SUMMARY:Lawinenkunde Theorie
URL:https://www.sac-pilatus.ch/touren-detailansicht/event-3969.html
DTSTART;VALUE=DATE:20191212
LOCATION:MZA Kreuzmatt\, Küssnacht
END:VEVENT
END:VCALENDAR
