BEGIN:VCALENDAR
PRODID:-//eluceo/ical//2.0/EN
VERSION:2.0
CALSCALE:GREGORIAN
BEGIN:VEVENT
UID:c035b20812916e89e6264fb6a5ab5acf
DTSTAMP:20260422T084347Z
SUMMARY:Wissigstock ab Bannalp
URL:https://www.sac-pilatus.ch/touren-detailansicht/event-3962.html
DTSTART;VALUE=DATE:20190303
LOCATION:
END:VEVENT
END:VCALENDAR
