BEGIN:VCALENDAR
PRODID:-//eluceo/ical//2.0/EN
VERSION:2.0
CALSCALE:GREGORIAN
BEGIN:VEVENT
UID:39496ebfa1b790a6a2b920a7180e4a07
DTSTAMP:20260423T084533Z
SUMMARY:Skihochtour Brunnistock
URL:https://www.sac-pilatus.ch/touren-detailansicht/event-3907.html
DTSTART;VALUE=DATE:20190309
LOCATION:Rugghubelhütte
END:VEVENT
BEGIN:VEVENT
UID:8447939296393bcbd551fa4805ca592b
DTSTAMP:20260423T084533Z
SUMMARY:Skihochtour Brunnistock
URL:https://www.sac-pilatus.ch/touren-detailansicht/event-3907.html
DTSTART;VALUE=DATE:20190310
LOCATION:Rugghubelhütte
END:VEVENT
END:VCALENDAR
