BEGIN:VCALENDAR
PRODID:-//eluceo/ical//2.0/EN
VERSION:2.0
CALSCALE:GREGORIAN
BEGIN:VEVENT
UID:c340f21bbe57e7f50739dd9e5d71e715
DTSTAMP:20260421T085959Z
SUMMARY:Allwettertour mit Chrotthüttenbesuch
URL:https://www.sac-pilatus.ch/touren-detailansicht/event-3846.html
DTSTART;VALUE=DATE:20191103
LOCATION:Napfgebiet
END:VEVENT
END:VCALENDAR
