BEGIN:VCALENDAR
PRODID:-//eluceo/ical//2.0/EN
VERSION:2.0
CALSCALE:GREGORIAN
BEGIN:VEVENT
UID:e35ef655dfdf46efe9e88818b4a5fa9b
DTSTAMP:20260422T084526Z
SUMMARY:Il Madone
URL:https://www.sac-pilatus.ch/touren-detailansicht/event-3728.html
DTSTART;VALUE=DATE:20190302
LOCATION:
END:VEVENT
END:VCALENDAR
