BEGIN:VCALENDAR
PRODID:-//eluceo/ical//2.0/EN
VERSION:2.0
CALSCALE:GREGORIAN
BEGIN:VEVENT
UID:648f53b9efbae086b80f927127c61caa
DTSTAMP:20260422T084754Z
SUMMARY:Abschönen (Göschenertal)
URL:https://www.sac-pilatus.ch/touren-detailansicht/event-3694.html
DTSTART;VALUE=DATE:20190601
LOCATION:Göschenertal / Gwürst
END:VEVENT
BEGIN:VEVENT
UID:f283177ba5cb28252c82bbc75e3ee7cd
DTSTAMP:20260422T084754Z
SUMMARY:Abschönen (Göschenertal)
URL:https://www.sac-pilatus.ch/touren-detailansicht/event-3694.html
DTSTART;VALUE=DATE:20190602
LOCATION:Göschenertal / Gwürst
END:VEVENT
END:VCALENDAR
