BEGIN:VCALENDAR
PRODID:-//eluceo/ical//2.0/EN
VERSION:2.0
CALSCALE:GREGORIAN
BEGIN:VEVENT
UID:84e919c0c3a1f80bd6642110104ca7c2
DTSTAMP:20260422T084712Z
SUMMARY:Herbstklettern
URL:https://www.sac-pilatus.ch/touren-detailansicht/event-3660.html
DTSTART;VALUE=DATE:20191012
LOCATION:
END:VEVENT
BEGIN:VEVENT
UID:0c8d075a65ecda6ead5fe4feedc04693
DTSTAMP:20260422T084712Z
SUMMARY:Herbstklettern
URL:https://www.sac-pilatus.ch/touren-detailansicht/event-3660.html
DTSTART;VALUE=DATE:20191013
LOCATION:
END:VEVENT
END:VCALENDAR
