BEGIN:VCALENDAR
PRODID:-//eluceo/ical//2.0/EN
VERSION:2.0
CALSCALE:GREGORIAN
BEGIN:VEVENT
UID:9987f68be36c91b77bbf694b3425a15c
DTSTAMP:20260423T082844Z
SUMMARY:Rund um die Schrattenfluh
URL:https://www.sac-pilatus.ch/touren-detailansicht/event-3550.html
DTSTART;VALUE=DATE:20190622
LOCATION:Sörenberg
END:VEVENT
END:VCALENDAR
