BEGIN:VCALENDAR
PRODID:-//eluceo/ical//2.0/EN
VERSION:2.0
CALSCALE:GREGORIAN
BEGIN:VEVENT
UID:23d3be2478b993a9409d2c328f51fcc2
DTSTAMP:20260421T125710Z
SUMMARY:Grassen
URL:https://www.sac-pilatus.ch/touren-detailansicht/event-3412.html
DTSTART;VALUE=DATE:20190628
LOCATION:Innerschweiz
END:VEVENT
BEGIN:VEVENT
UID:82d37b5256f04663c60d0611e4fab2c0
DTSTAMP:20260421T125710Z
SUMMARY:Grassen
URL:https://www.sac-pilatus.ch/touren-detailansicht/event-3412.html
DTSTART;VALUE=DATE:20190629
LOCATION:Innerschweiz
END:VEVENT
END:VCALENDAR
