BEGIN:VCALENDAR
PRODID:-//eluceo/ical//2.0/EN
VERSION:2.0
CALSCALE:GREGORIAN
BEGIN:VEVENT
UID:88c9033d0731737360bffa472734e8ba
DTSTAMP:20260422T084851Z
SUMMARY:Clean Klettern\, Valle dell Orco
URL:https://www.sac-pilatus.ch/touren-detailansicht/event-3139.html
DTSTART;VALUE=DATE:20190605
LOCATION:Cereasole
END:VEVENT
BEGIN:VEVENT
UID:02d819a94d80071760b0278e8e81a8aa
DTSTAMP:20260422T084851Z
SUMMARY:Clean Klettern\, Valle dell Orco
URL:https://www.sac-pilatus.ch/touren-detailansicht/event-3139.html
DTSTART;VALUE=DATE:20190606
LOCATION:Cereasole
END:VEVENT
BEGIN:VEVENT
UID:ac3f5f9ec032fbb7401704ef0f3b1941
DTSTAMP:20260422T084851Z
SUMMARY:Clean Klettern\, Valle dell Orco
URL:https://www.sac-pilatus.ch/touren-detailansicht/event-3139.html
DTSTART;VALUE=DATE:20190607
LOCATION:Cereasole
END:VEVENT
BEGIN:VEVENT
UID:31f26c852e7d57e90e3f889b3fea5450
DTSTAMP:20260422T084851Z
SUMMARY:Clean Klettern\, Valle dell Orco
URL:https://www.sac-pilatus.ch/touren-detailansicht/event-3139.html
DTSTART;VALUE=DATE:20190608
LOCATION:Cereasole
END:VEVENT
BEGIN:VEVENT
UID:31e2c95d981ce9118735aab3a335ddc3
DTSTAMP:20260422T084851Z
SUMMARY:Clean Klettern\, Valle dell Orco
URL:https://www.sac-pilatus.ch/touren-detailansicht/event-3139.html
DTSTART;VALUE=DATE:20190609
LOCATION:Cereasole
END:VEVENT
END:VCALENDAR
