BEGIN:VCALENDAR
PRODID:-//eluceo/ical//2.0/EN
VERSION:2.0
CALSCALE:GREGORIAN
BEGIN:VEVENT
UID:91931c529e82fc08ae8356d321ecbf0d
DTSTAMP:20260423T082418Z
SUMMARY:Tourenplanung\, Risiko Management
URL:https://www.sac-pilatus.ch/kurs-detail/event-246.html
DTSTART;VALUE=DATE:20171122
LOCATION:Radisson Luzern
END:VEVENT
END:VCALENDAR
