BEGIN:VCALENDAR
PRODID:-//eluceo/ical//2.0/EN
VERSION:2.0
CALSCALE:GREGORIAN
BEGIN:VEVENT
UID:ceba17fa775738d7c880a6dd27cfc8cc
DTSTAMP:20260420T224819Z
SUMMARY:Hütteneinweihungsfeier Dammahütte
URL:https://www.sac-pilatus.ch/touren-detailansicht/event-21366.html
DTSTART;VALUE=DATE:20260627
LOCATION:Dammahütte
END:VEVENT
END:VCALENDAR
