BEGIN:VCALENDAR
PRODID:-//eluceo/ical//2.0/EN
VERSION:2.0
CALSCALE:GREGORIAN
BEGIN:VEVENT
UID:6f4f6bd271f823b90aa82d98626fe4ae
DTSTAMP:20260422T084712Z
SUMMARY:Eis und Firn
URL:https://www.sac-pilatus.ch/kurs-detail/event-2050.html
DTSTART;VALUE=DATE:20190622
LOCATION:Steingletscher oder Rhonegletscher
END:VEVENT
BEGIN:VEVENT
UID:3e4b0b4cb238681ca48e80b7f071fb40
DTSTAMP:20260422T084712Z
SUMMARY:Eis und Firn
URL:https://www.sac-pilatus.ch/kurs-detail/event-2050.html
DTSTART;VALUE=DATE:20190623
LOCATION:Steingletscher oder Rhonegletscher
END:VEVENT
END:VCALENDAR
