BEGIN:VCALENDAR
PRODID:-//eluceo/ical//2.0/EN
VERSION:2.0
CALSCALE:GREGORIAN
BEGIN:VEVENT
UID:800ac5ee8276706b1d6bb00dc5b48f0d
DTSTAMP:20260421T235602Z
SUMMARY:Informationen für neu ausgebildete Tourenleiter:in 2025
URL:https://www.sac-pilatus.ch/touren-detailansicht/event-17982.html
DTSTART;VALUE=DATE:20260922
LOCATION:Kulturhof Hintermusegg\, Luzern
END:VEVENT
END:VCALENDAR
