BEGIN:VCALENDAR
PRODID:-//eluceo/ical//2.0/EN
VERSION:2.0
CALSCALE:GREGORIAN
BEGIN:VEVENT
UID:3c72724ed06e3cd7a6ee7372f4bc683a
DTSTAMP:20260423T084702Z
SUMMARY:KiBe-Hallenklettern Nottwil
URL:https://www.sac-pilatus.ch/touren-detailansicht/event-16744.html
DTSTART;VALUE=DATE:20250111
LOCATION:
END:VEVENT
END:VCALENDAR
