BEGIN:VCALENDAR
PRODID:-//eluceo/ical//2.0/EN
VERSION:2.0
CALSCALE:GREGORIAN
BEGIN:VEVENT
UID:8396a978da1509d3743deffe9c8d8069
DTSTAMP:20260421T085712Z
SUMMARY:Chaiserstuel Nidwalden
URL:https://www.sac-pilatus.ch/touren-detailansicht/event-16409.html
DTSTART;VALUE=DATE:20250702
LOCATION:
END:VEVENT
END:VCALENDAR
