BEGIN:VCALENDAR
PRODID:-//eluceo/ical//2.0/EN
VERSION:2.0
CALSCALE:GREGORIAN
BEGIN:VEVENT
UID:d565607e045fdd000903c976aeb9111f
DTSTAMP:20260421T103441Z
SUMMARY:Salbitschijen S-Grat 2025 (All in one Day)
URL:https://www.sac-pilatus.ch/touren-detailansicht/event-16046.html
DTSTART;VALUE=DATE:20250813
LOCATION:Göscheneralp UR
END:VEVENT
END:VCALENDAR
