BEGIN:VCALENDAR
PRODID:-//eluceo/ical//2.0/EN
VERSION:2.0
CALSCALE:GREGORIAN
BEGIN:VEVENT
UID:641d05ca990b4006b25df843ff536c87
DTSTAMP:20260421T103918Z
SUMMARY:JO Skitourenwochenende Rotondohütte
URL:https://www.sac-pilatus.ch/touren-detailansicht/event-14187.html
DTSTART;VALUE=DATE:20240113
LOCATION:
END:VEVENT
BEGIN:VEVENT
UID:14798c352a191d88b926f32005c86c18
DTSTAMP:20260421T103918Z
SUMMARY:JO Skitourenwochenende Rotondohütte
URL:https://www.sac-pilatus.ch/touren-detailansicht/event-14187.html
DTSTART;VALUE=DATE:20240114
LOCATION:
END:VEVENT
END:VCALENDAR
