BEGIN:VCALENDAR
PRODID:-//eluceo/ical//2.0/EN
VERSION:2.0
CALSCALE:GREGORIAN
BEGIN:VEVENT
UID:dd736db0ba27b0481e12f0e5b9b58ffc
DTSTAMP:20260420T095114Z
SUMMARY:Ponte Brolla
URL:https://www.sac-pilatus.ch/touren-detailansicht/event-14134.html
DTSTART;VALUE=DATE:20241116
LOCATION:Ponte Brolla
END:VEVENT
END:VCALENDAR
